BEGIN:VCALENDAR
VERSION:2.0
PRODID:-//ChamberMaster//Event Calendar 2.0//EN
METHOD:PUBLISH
X-PUBLISHED-TTL:P1H
REFRESH-INTERVAL:P1H
CALSCALE:GREGORIAN
BEGIN:VTIMEZONE
TZID:America/New_York
BEGIN:DAYLIGHT
RRULE:FREQ=YEARLY;BYMONTH=3;BYDAY=2SU
DTSTART:20070101T000000
TZOFFSETFROM:-0500
TZOFFSETTO:-0400
TZNAME:Eastern Daylight Time
END:DAYLIGHT
BEGIN:STANDARD
RRULE:FREQ=YEARLY;BYMONTH=11;BYDAY=1SU
DTSTART:20070101T000000
TZOFFSETFROM:-0400
TZOFFSETTO:-0500
TZNAME:Eastern Standard Time
END:STANDARD
END:VTIMEZONE
BEGIN:VEVENT
DTSTART;TZID=America/New_York:20261210T170000
DTEND;TZID=America/New_York:20261210T200000
X-MICROSOFT-CDO-ALLDAYEVENT:FALSE
SUMMARY:2nd Thursday's at the Fort Wayne Museum of Art
DESCRIPTION:Enjoy FREE admission\, cash bar and light appetizers every 2nd Thursday of the month!Each event has two guided tours (5:30pm and 6:30pm) that will highlight an exhibit or an artist!More information HERE
X-ALT-DESC;FMTTYPE=text/html:<!DOCTYPE html><html><head><title></title></head><body aria-disabled="false"><p><br></p><p><span style="font-size: 18px\;">Enjoy FREE admission\, cash bar and light appetizers every 2nd Thursday of the month!</span></p><p><span style="font-size: 18px\;">Each event has two guided tours (5:30pm and 6:30pm) that will highlight an exhibit or an artist!</span></p><p><span style="font-size: 18px\;">More information&nbsp\;</span><a fr-original-style="" href="http://fwmoa.org/events/" style="user-select: auto\;"><strong fr-original-style="" style="font-weight: 700\;"><span style="font-size: 18px\;">HERE</span></strong></a></p></body></html>
LOCATION:311 East Main Street Fort Wayne IN 46802
UID:e.4350.1447215
SEQUENCE:3
DTSTAMP:20260420T195101Z
URL:https://business.greaterfortwayneinc.com/events/Details/2nd-thursday-s-at-the-fort-wayne-museum-of-art-1714068?sourceTypeId=Hub
END:VEVENT
END:VCALENDAR
